BEGIN:VCALENDAR
VERSION:2.0
PRODID:-//eventon.com NONSGML v1.0//EN
BEGIN:VEVENT
UID:69ea09f6843f7
DTSTAMP:20260423T140054
DTSTART:20161231T220000Z
DTEND:20251231T215900Z
LOCATION:
SUMMARY:IT-Professional Individualseminare
DESCRIPTION: IT-Professional Individualseminare
END:VEVENT
END:VCALENDAR