BEGIN:VCALENDAR
VERSION:2.0
PRODID:-//eventon.com NONSGML v1.0//EN
BEGIN:VEVENT
UID:69e9f2cf4dc5f
DTSTAMP:20260423T122207
DTSTART:20161231T220000Z
DTEND:20251231T215900Z
LOCATION:
SUMMARY:IT-Individualtraining/Einzelunterricht
DESCRIPTION: IT-Individualtraining/Einzelunterricht
END:VEVENT
END:VCALENDAR