BEGIN:VCALENDAR
VERSION:2.0
PRODID:-//eventon.com NONSGML v1.0//EN
BEGIN:VEVENT
UID:69e9e08f9ab27
DTSTAMP:20260423T110415
DTSTART:20161231T220000Z
DTEND:20251231T215900Z
LOCATION:
SUMMARY:Ausbildungsdienstleistung IT-Azubi plus
DESCRIPTION: Mehr zu IT-Azubi plus: https://www.ctc-lohr.de/it-azubi-plus/
END:VEVENT
END:VCALENDAR