BEGIN:VCALENDAR
VERSION:2.0
PRODID:-//eventon.com NONSGML v1.0//EN
BEGIN:VEVENT
UID:69e9e06b894d1
DTSTAMP:20260423T110339
DTSTART:20251121T080000Z
DTEND:20251121T110000Z
LOCATION:
SUMMARY:CTC-Eignungstest
DESCRIPTION: CTC-Eignungstest
END:VEVENT
END:VCALENDAR