BEGIN:VCALENDAR
VERSION:2.0
PRODID:-//eventon.com NONSGML v1.0//EN
BEGIN:VEVENT
UID:69e9ee3e45519
DTSTAMP:20260423T120238
DTSTART:20251205T080000Z
DTEND:20251205T110000Z
LOCATION:
SUMMARY:CTC-Eignungstest
DESCRIPTION: CTC-Eignungstest
END:VEVENT
END:VCALENDAR